BEGIN:VCALENDAR
VERSION:2.0
PRODID:-//CFMEU NSW - ECPv6.15.9//NONSGML v1.0//EN
CALSCALE:GREGORIAN
METHOD:PUBLISH
X-ORIGINAL-URL:https://nsw.cfmeu.org
X-WR-CALDESC:Events for CFMEU NSW
REFRESH-INTERVAL;VALUE=DURATION:PT1H
X-Robots-Tag:noindex
X-PUBLISHED-TTL:PT1H
BEGIN:VTIMEZONE
TZID:Australia/Melbourne
BEGIN:STANDARD
TZOFFSETFROM:+1100
TZOFFSETTO:+1000
TZNAME:AEST
DTSTART:20250405T160000
END:STANDARD
BEGIN:DAYLIGHT
TZOFFSETFROM:+1000
TZOFFSETTO:+1100
TZNAME:AEDT
DTSTART:20251004T160000
END:DAYLIGHT
BEGIN:STANDARD
TZOFFSETFROM:+1100
TZOFFSETTO:+1000
TZNAME:AEST
DTSTART:20260404T160000
END:STANDARD
BEGIN:DAYLIGHT
TZOFFSETFROM:+1000
TZOFFSETTO:+1100
TZNAME:AEDT
DTSTART:20261003T160000
END:DAYLIGHT
BEGIN:STANDARD
TZOFFSETFROM:+1100
TZOFFSETTO:+1000
TZNAME:AEST
DTSTART:20270403T160000
END:STANDARD
BEGIN:DAYLIGHT
TZOFFSETFROM:+1000
TZOFFSETTO:+1100
TZNAME:AEDT
DTSTART:20271002T160000
END:DAYLIGHT
END:VTIMEZONE
BEGIN:VEVENT
DTSTART;VALUE=DATE:20261205
DTEND;VALUE=DATE:20261209
DTSTAMP:20260422T102656
CREATED:20251120T014225Z
LAST-MODIFIED:20251120T014225Z
UID:10000087-1796428800-1796774399@nsw.cfmeu.org
SUMMARY:Designated Shutdown Long Weekend (Public Holiday & RDO)
DESCRIPTION:
URL:https://nsw.cfmeu.org/event/designated-shutdown-long-weekend-public-holiday-rdo-22/
END:VEVENT
BEGIN:VEVENT
DTSTART;VALUE=DATE:20261207
DTEND;VALUE=DATE:20261208
DTSTAMP:20260422T102656
CREATED:20251120T005032Z
LAST-MODIFIED:20251120T005032Z
UID:10000060-1796601600-1796687999@nsw.cfmeu.org
SUMMARY:Union Picnic Day
DESCRIPTION:
URL:https://nsw.cfmeu.org/event/union-picnic-day-2/
END:VEVENT
BEGIN:VEVENT
DTSTART;VALUE=DATE:20261225
DTEND;VALUE=DATE:20261226
DTSTAMP:20260422T102656
CREATED:20251120T005136Z
LAST-MODIFIED:20251120T005136Z
UID:10000061-1798156800-1798243199@nsw.cfmeu.org
SUMMARY:Christmas Day
DESCRIPTION:
URL:https://nsw.cfmeu.org/event/christmas-day-2/
END:VEVENT
BEGIN:VEVENT
DTSTART;VALUE=DATE:20261225
DTEND;VALUE=DATE:20270101
DTSTAMP:20260422T102656
CREATED:20251120T014256Z
LAST-MODIFIED:20251120T014256Z
UID:10000088-1798156800-1798761599@nsw.cfmeu.org
SUMMARY:Designated Shutdown Long Weekend (Public Holiday & RDO)
DESCRIPTION:
URL:https://nsw.cfmeu.org/event/designated-shutdown-long-weekend-public-holiday-rdo-23/
END:VEVENT
BEGIN:VEVENT
DTSTART;VALUE=DATE:20261226
DTEND;VALUE=DATE:20261227
DTSTAMP:20260422T102656
CREATED:20251120T005201Z
LAST-MODIFIED:20251120T005201Z
UID:10000062-1798243200-1798329599@nsw.cfmeu.org
SUMMARY:Boxing Day
DESCRIPTION:
URL:https://nsw.cfmeu.org/event/boxing-day-2/
END:VEVENT
BEGIN:VEVENT
DTSTART;VALUE=DATE:20261227
DTEND;VALUE=DATE:20261229
DTSTAMP:20260422T102656
CREATED:20251120T005531Z
LAST-MODIFIED:20251120T005531Z
UID:10000063-1798329600-1798502399@nsw.cfmeu.org
SUMMARY:Additional Public Holidays
DESCRIPTION:
URL:https://nsw.cfmeu.org/event/additional-public-holidays/
END:VEVENT
END:VCALENDAR