BEGIN:VCALENDAR
VERSION:2.0
PRODID:-//CFMEU NSW - ECPv6.15.9//NONSGML v1.0//EN
CALSCALE:GREGORIAN
METHOD:PUBLISH
X-ORIGINAL-URL:https://nsw.cfmeu.org
X-WR-CALDESC:Events for CFMEU NSW
REFRESH-INTERVAL;VALUE=DURATION:PT1H
X-Robots-Tag:noindex
X-PUBLISHED-TTL:PT1H
BEGIN:VTIMEZONE
TZID:Australia/Melbourne
BEGIN:STANDARD
TZOFFSETFROM:+1100
TZOFFSETTO:+1000
TZNAME:AEST
DTSTART:20250405T160000
END:STANDARD
BEGIN:DAYLIGHT
TZOFFSETFROM:+1000
TZOFFSETTO:+1100
TZNAME:AEDT
DTSTART:20251004T160000
END:DAYLIGHT
BEGIN:STANDARD
TZOFFSETFROM:+1100
TZOFFSETTO:+1000
TZNAME:AEST
DTSTART:20260404T160000
END:STANDARD
BEGIN:DAYLIGHT
TZOFFSETFROM:+1000
TZOFFSETTO:+1100
TZNAME:AEDT
DTSTART:20261003T160000
END:DAYLIGHT
BEGIN:STANDARD
TZOFFSETFROM:+1100
TZOFFSETTO:+1000
TZNAME:AEST
DTSTART:20270403T160000
END:STANDARD
BEGIN:DAYLIGHT
TZOFFSETFROM:+1000
TZOFFSETTO:+1100
TZNAME:AEDT
DTSTART:20271002T160000
END:DAYLIGHT
END:VTIMEZONE
BEGIN:VEVENT
DTSTART;VALUE=DATE:20260606
DTEND;VALUE=DATE:20260610
DTSTAMP:20260421T184137
CREATED:20251120T012312Z
LAST-MODIFIED:20251120T012312Z
UID:10000075-1780704000-1781049599@nsw.cfmeu.org
SUMMARY:Designated Shutdown Long Weekend (Public Holiday & RDO)
DESCRIPTION:
URL:https://nsw.cfmeu.org/event/designated-shutdown-long-weekend-public-holiday-rdo-20/
END:VEVENT
BEGIN:VEVENT
DTSTART;VALUE=DATE:20260608
DTEND;VALUE=DATE:20260609
DTSTAMP:20260421T184137
CREATED:20251120T003449Z
LAST-MODIFIED:20251120T003449Z
UID:10000058-1780876800-1780963199@nsw.cfmeu.org
SUMMARY:King’s Birthday
DESCRIPTION:
URL:https://nsw.cfmeu.org/event/kings-birthday-3/
END:VEVENT
BEGIN:VEVENT
DTSTART;VALUE=DATE:20260629
DTEND;VALUE=DATE:20260630
DTSTAMP:20260421T184137
CREATED:20251120T012509Z
LAST-MODIFIED:20251120T012509Z
UID:10000076-1782691200-1782777599@nsw.cfmeu.org
SUMMARY:Fixed RDO
DESCRIPTION:
URL:https://nsw.cfmeu.org/event/fixed-rdo-12/
END:VEVENT
END:VCALENDAR